BEGIN:VCALENDAR
VERSION:2.0
PRODID:-//Swedish-Canadian chamber of Commerce - ECPv6.15.20//NONSGML v1.0//EN
CALSCALE:GREGORIAN
METHOD:PUBLISH
X-ORIGINAL-URL:https://sccc.ca
X-WR-CALDESC:Events for Swedish-Canadian chamber of Commerce
REFRESH-INTERVAL;VALUE=DURATION:PT1H
X-Robots-Tag:noindex
X-PUBLISHED-TTL:PT1H
BEGIN:VTIMEZONE
TZID:America/Toronto
BEGIN:DAYLIGHT
TZOFFSETFROM:-0500
TZOFFSETTO:-0400
TZNAME:EDT
DTSTART:20250309T070000
END:DAYLIGHT
BEGIN:STANDARD
TZOFFSETFROM:-0400
TZOFFSETTO:-0500
TZNAME:EST
DTSTART:20251102T060000
END:STANDARD
BEGIN:DAYLIGHT
TZOFFSETFROM:-0500
TZOFFSETTO:-0400
TZNAME:EDT
DTSTART:20260308T070000
END:DAYLIGHT
BEGIN:STANDARD
TZOFFSETFROM:-0400
TZOFFSETTO:-0500
TZNAME:EST
DTSTART:20261101T060000
END:STANDARD
BEGIN:DAYLIGHT
TZOFFSETFROM:-0500
TZOFFSETTO:-0400
TZNAME:EDT
DTSTART:20270314T070000
END:DAYLIGHT
BEGIN:STANDARD
TZOFFSETFROM:-0400
TZOFFSETTO:-0500
TZNAME:EST
DTSTART:20271107T060000
END:STANDARD
END:VTIMEZONE
BEGIN:VEVENT
DTSTART;TZID=America/Toronto:20261204T103000
DTEND;TZID=America/Toronto:20261204T150000
DTSTAMP:20260425T000525
CREATED:20260420T062135Z
LAST-MODIFIED:20260420T062919Z
UID:15028-1796380200-1796396400@sccc.ca
SUMMARY:The 27th Annual Lucia Luncheon
DESCRIPTION:The 27th Annual Lucia Luncheon\n\n\n\n\nJoin us for our annual Lucia Luncheon. \nMARK YOUR CALENDAR – YOU DON’T WANT TO MISS THIS EVENT!\nFriday\, December 4\, 2026\,\nChelsea Hotel – 33 Gerrard St W\, Toronto \nMore information coming soon. Stay tuned for details!
URL:https://sccc.ca/event/the-27th-annual-lucia-luncheon/
LOCATION:Chelsea Hotel\, 33 Gerrard Street West\, Toronto\, Ontario\, M5G1Z4\, Canada
ATTACH;FMTTYPE=image/png:https://sccc.ca/wp-content/uploads/2026/04/Lucia-Luncheon-.png
END:VEVENT
END:VCALENDAR