BEGIN:VCALENDAR
VERSION:2.0
PRODID:-//Swedish-Canadian chamber of Commerce - ECPv6.15.20//NONSGML v1.0//EN
CALSCALE:GREGORIAN
METHOD:PUBLISH
X-ORIGINAL-URL:https://sccc.ca
X-WR-CALDESC:Events for Swedish-Canadian chamber of Commerce
REFRESH-INTERVAL;VALUE=DURATION:PT1H
X-Robots-Tag:noindex
X-PUBLISHED-TTL:PT1H
BEGIN:VTIMEZONE
TZID:Asia/Karachi
BEGIN:STANDARD
TZOFFSETFROM:+0500
TZOFFSETTO:+0500
TZNAME:PKT
DTSTART:20240101T000000
END:STANDARD
END:VTIMEZONE
BEGIN:VEVENT
DTSTART;TZID=Asia/Karachi:20251205T103000
DTEND;TZID=Asia/Karachi:20251205T153000
DTSTAMP:20260424T210007
CREATED:20250316T023149Z
LAST-MODIFIED:20251115T165930Z
UID:14679-1764930600-1764948600@sccc.ca
SUMMARY:The Lucia Luncheon 2025
DESCRIPTION:SOLD OUT!!!!!\nUnfortunately\, the Lucia Luncheon is now SOLD OUT!\nPlease join us again next year on Friday\, December 4\, 2026.\n  \n\nThe 26th Annual Lucia Luncheon\n\n\n\n\nJoin us for\nour 26th annual Lucia Luncheon. \nMARK YOUR CALENDAR – YOU DON’T WANT TO MISS THIS EVENT!\nFriday\, December 5\, 2025\nGlögg reception 10:30 AM. | Lucia Luncheon 12:00 – 3:30 PM.\nChelsea Hotel – 33 Gerrard St W\, Toronto \n\n\n\n\nYou don’t want to miss this opportunity to experience an authentic Swedish Cultural event.\nTake this opportunity to give your employees\, colleagues\, clients\, friends\, and family a unique experience filled with entertainment and a tasty & authentic Swedish “Julbord” – Christmas Buffet. Join us in celebrating one of the foremost cultural traditions in Sweden and a highlight of the Holiday season. Learn more about Lucia and its origin here.\nThe Lucia tradition is integral to Swedish culture and celebrated far beyond Sweden’s borders.  Immensely atmospheric\, this 400-year-old custom brings peaceful joy each year on 13 December. \n                                             \n\n\n\n\n\n\n\nPROGRAM\n10:30 AM – Glögg Reception and Mingle \n12:20 PM – Welcome and Opening Remarks by SCCC’s President\, Adam Ayres  \n12:30 PM – MC Åsa Watts Opens the Julbord (Traditional Swedish Christmas Buffet) \n\n\n1:45 PM – Lucia Procession by the Swedish Children’s Lucia Choir\, led by Emma Eriksson \n2:30 PM – Raffle and Games and the Draw for 2 Return Tickets to Europe with Air Canada \n3:30 PM – End of Festivities \n\n\n\n\n\n\n\n\n\n                      \n\n\n\nLocation \n\n\n\n\nThe Chelsea Hotel\n\n\n\n\nJust like last year\, we are excited to celebrate our Lucia Luncheon at the Chelsea Hotel located at 33 Gerrard St W\, Toronto\, ON M5G 1Z4. The hotel is situated in the heart of downtown Toronto\, offering guests a comfortable stay and easy access to prime retail districts\, lively local neighbourhoods\, and major tourist attractions\, all within walking distance. \nChelsea Hotel offers a special “Lucia” room rate of $129 plus tax to all our guests who want to stay from Thursday to Saturday\, or just one of those nights. \nGuests can call the hotel directly at 416-595-1975 or 800-243-5732 and ask to book a room on the Lucia Luncheon Room Block. \nClick here \nThe special rate and booking link are available from December 4 to 6 and can be booked until  December 1\, 2025 \n\n\n\nBack by popular demand!!!\n\nTWO Return Tickets with Air Canada to\nAnywhere in Europe\nwill be WON at the Lucia Luncheon 2025.\n(T/C and blackout dates apply) \n\nWill this be YOUR Chance to Visit Stockholm next Summer?\n\n \n\n\n“Non-Stop to Stockholm\nA Captivating blend of modernity and tradition\, Sweden is renowned for its stunning landscapes\, innovative industries and high quality of life\, offering a unique experience for both business adn leisure travellers. Beginning June 4\, Air Canada will offer seasonal summer non-stop flights to Stockhom from Toronto and Montréal\, operating four times weekly until Sept. 8\, 2025. Both Canadian hubs serve as convenient gateways connecting major Canadian and Amberican cities to Sweden. \n\nAir Canada’s internatioal routes offer three cabins of service\, including Air Canada Signature Class. With Air Canada Signature Class\, travellers dine on cuisine showcasing menus from the airline’s panel of celbrity chefs\, enjoy lavish amenity kits in partnership and then drift off to dreamland in a fully lie-flat seat.” \n\n  \n\n\nSOLD OUT!\nPlease join us at Lucia Luncheon 2026\, on Friday\, December 4\, 2026.  \n\n\n\n\n\n\n\n\nRegistration\nPLEASE DON”T FORGET TO REGISTER! \nTo Register\, please click this link: https://forms.gle/d6CR2yxq2MRVP4597
URL:https://sccc.ca/event/the-lucia-luncheon-2025/
LOCATION:Chelsea Hotel\, 33 Gerrard Street West\, Toronto\, Ontario\, M5G1Z4\, Canada
ATTACH;FMTTYPE=image/png:https://sccc.ca/wp-content/uploads/2025/03/Lucia-Luncheon-.png
ORGANIZER;CN="The Swedish-Canadian Chamber of Commerce":MAILTO:lisa@sccc.ca
END:VEVENT
END:VCALENDAR